BEGIN:VCALENDAR
VERSION:2.0
PRODID:-//wp-events-plugin.com//7.2.3.1//EN
TZID:America/Chicago
X-WR-TIMEZONE:America/Chicago
BEGIN:VEVENT
UID:12@showmecorvairclub.org
DTSTART;TZID=America/Chicago;VALUE=DATE:20240616
DTEND;TZID=America/Chicago;VALUE=DATE:20240617
DTSTAMP:20240306T155752Z
URL:https://showmecorvairclub.org/events/st-clair-car-show/
SUMMARY:St. Clair Car Show
DESCRIPTION:St. Clair Car Show. Tom Yengel and Don Hogan will facilitate th
 is event.
END:VEVENT
BEGIN:VTIMEZONE
TZID:America/Chicago
X-LIC-LOCATION:America/Chicago
BEGIN:DAYLIGHT
DTSTART:20240310T030000
TZOFFSETFROM:-0600
TZOFFSETTO:-0500
TZNAME:CDT
END:DAYLIGHT
END:VTIMEZONE
END:VCALENDAR