BEGIN:VCALENDAR
VERSION:2.0
PRODID:-//wp-events-plugin.com//7.2.3.1//EN
TZID:America/Chicago
X-WR-TIMEZONE:America/Chicago
BEGIN:VEVENT
UID:31@showmecorvairclub.org
DTSTART;TZID=America/Chicago:20260711T000000
DTEND;TZID=America/Chicago:20260711T000000
DTSTAMP:20260207T141904Z
URL:https://showmecorvairclub.org/events/july-2026-meeting/
SUMMARY:July 2026 Meeting
DESCRIPTION:Meeting will be at Fast Lane Classic Cars in St. Charles\, MO d
 uring their Cars and Coffee event.\n\nContact Dean Meyer for more informat
 ion.
END:VEVENT
BEGIN:VTIMEZONE
TZID:America/Chicago
X-LIC-LOCATION:America/Chicago
BEGIN:DAYLIGHT
DTSTART:20260308T030000
TZOFFSETFROM:-0600
TZOFFSETTO:-0500
TZNAME:CDT
END:DAYLIGHT
END:VTIMEZONE
END:VCALENDAR