BEGIN:VCALENDAR
VERSION:2.0
PRODID:-//wp-events-plugin.com//7.2.3.1//EN
TZID:America/Chicago
X-WR-TIMEZONE:America/Chicago
BEGIN:VEVENT
UID:15@showmecorvairclub.org
DTSTART;TZID=America/Chicago;VALUE=DATE:20240722
DTEND;TZID=America/Chicago;VALUE=DATE:20240726
DTSTAMP:20240306T160127Z
URL:https://showmecorvairclub.org/events/corsa-convention/
SUMMARY:CORSA Convention
DESCRIPTION:The annual CORSA convention will be in Dayton\, OH July 22-25.
END:VEVENT
BEGIN:VTIMEZONE
TZID:America/Chicago
X-LIC-LOCATION:America/Chicago
BEGIN:DAYLIGHT
DTSTART:20240310T030000
TZOFFSETFROM:-0600
TZOFFSETTO:-0500
TZNAME:CDT
END:DAYLIGHT
END:VTIMEZONE
END:VCALENDAR