BEGIN:VCALENDAR
VERSION:2.0
PRODID:-//wp-events-plugin.com//7.2.3.1//EN
TZID:America/Chicago
X-WR-TIMEZONE:America/Chicago
BEGIN:VEVENT
UID:26@showmecorvairclub.org
DTSTART;TZID=America/Chicago:20260405T000000
DTEND;TZID=America/Chicago:20260405T000000
DTSTAMP:20260207T140906Z
URL:https://showmecorvairclub.org/events/april-2026-car-show/
SUMMARY:April 2026 Car Show
DESCRIPTION:The Show Me Corvair Club will participate in the annual Easter 
 Car show in Forest Park.\n\nDetails and coordinator TBD.
END:VEVENT
BEGIN:VTIMEZONE
TZID:America/Chicago
X-LIC-LOCATION:America/Chicago
BEGIN:DAYLIGHT
DTSTART:20260308T030000
TZOFFSETFROM:-0600
TZOFFSETTO:-0500
TZNAME:CDT
END:DAYLIGHT
END:VTIMEZONE
END:VCALENDAR